BEGIN:VCALENDAR
VERSION:2.0
PRODID:icalendar-ruby
CALSCALE:GREGORIAN
METHOD:PUBLISH
BEGIN:VEVENT
DTSTAMP:20260423T223334Z
UID:12-259859@gsmbclufkin.org
DTSTART:20260927T153000Z
DTEND:20260927T173000Z
CLASS:PUBLIC
CREATED:20260423T163748
DESCRIPTION:
LAST-MODIFIED:20260423T163748
LOCATION:Greater Shiloh Missionary Baptist Church
SUMMARY:Sunday Morning Worship
URL;VALUE=URI:https://gsmbclufkin.org/events/sunday-morning-worship--12/202
 6-09-27
END:VEVENT
END:VCALENDAR
