BEGIN:VCALENDAR
VERSION:2.0
PRODID:icalendar-ruby
CALSCALE:GREGORIAN
METHOD:PUBLISH
BEGIN:VEVENT
DTSTAMP:20260423T205446Z
UID:12-259814@gsmbclufkin.org
DTSTART:20260920T153000Z
DTEND:20260920T173000Z
CLASS:PUBLIC
CREATED:20260423T134324
DESCRIPTION:
LAST-MODIFIED:20260423T134324
LOCATION:Greater Shiloh Missionary Baptist Church
SUMMARY:Sunday Morning Worship
URL;VALUE=URI:https://gsmbclufkin.org/events/sunday-morning-worship--12/202
 6-09-20
END:VEVENT
END:VCALENDAR
